BEGIN:VCALENDAR
VERSION:2.0
PRODID:-//First Presbyterian Church of Rome, NY - ECPv6.15.20//NONSGML v1.0//EN
CALSCALE:GREGORIAN
METHOD:PUBLISH
X-WR-CALNAME:First Presbyterian Church of Rome, NY
X-ORIGINAL-URL:https://firstpresrome.com
X-WR-CALDESC:Events for First Presbyterian Church of Rome, NY
REFRESH-INTERVAL;VALUE=DURATION:PT1H
X-Robots-Tag:noindex
X-PUBLISHED-TTL:PT1H
BEGIN:VTIMEZONE
TZID:America/New_York
BEGIN:DAYLIGHT
TZOFFSETFROM:-0500
TZOFFSETTO:-0400
TZNAME:EDT
DTSTART:20250309T070000
END:DAYLIGHT
BEGIN:STANDARD
TZOFFSETFROM:-0400
TZOFFSETTO:-0500
TZNAME:EST
DTSTART:20251102T060000
END:STANDARD
BEGIN:DAYLIGHT
TZOFFSETFROM:-0500
TZOFFSETTO:-0400
TZNAME:EDT
DTSTART:20260308T070000
END:DAYLIGHT
BEGIN:STANDARD
TZOFFSETFROM:-0400
TZOFFSETTO:-0500
TZNAME:EST
DTSTART:20261101T060000
END:STANDARD
BEGIN:DAYLIGHT
TZOFFSETFROM:-0500
TZOFFSETTO:-0400
TZNAME:EDT
DTSTART:20270314T070000
END:DAYLIGHT
BEGIN:STANDARD
TZOFFSETFROM:-0400
TZOFFSETTO:-0500
TZNAME:EST
DTSTART:20271107T060000
END:STANDARD
END:VTIMEZONE
BEGIN:VEVENT
DTSTART;TZID=America/New_York:20260426T103000
DTEND;TZID=America/New_York:20260426T113000
DTSTAMP:20260424T084107
CREATED:20260415T162555Z
LAST-MODIFIED:20260415T162555Z
UID:10000157-1777199400-1777203000@firstpresrome.com
SUMMARY:Creation Care Sunday
DESCRIPTION:“The heavens are telling the glory of God\, and the firmament proclaims God’s handiwork\, (Psalm 19:1) God has created a beautiful world and has entrusted us to be good stewards of it.  Join us for a special worship service that focuses on Creation Care.  There will also be crafts and handouts to do and take home during our coffee hour at 10am before service.  Come and experience God reflected in the beauty of creation!
URL:https://firstpresrome.com/event/creation-care-sunday/
LOCATION:First Presbyterian Church of Rome\, Rome\, NY\, 13440\, United States
CATEGORIES:Event Calendar
ATTACH;FMTTYPE=image/jpeg:https://firstpresrome.com/wp-content/uploads/2026/04/Creation-Care-pic.jpg
END:VEVENT
BEGIN:VEVENT
DTSTART;TZID=America/New_York:20260426T170000
DTEND;TZID=America/New_York:20260426T193000
DTSTAMP:20260424T084107
CREATED:20260415T163155Z
LAST-MODIFIED:20260415T163155Z
UID:10000158-1777222800-1777231800@firstpresrome.com
SUMMARY:Ecumenical Youth Group
DESCRIPTION:Our next Ecumenical Youth Group will be on April 26th from 5pm-7:30pm at Zion Episcopal Church.  All youth are welcome!  Its a great way to make new friends and have fun with current ones!  We begin with a meal that is provided\, a brief devotion\, crafts\, and activities.  Invite a friend or two and come and join in on the food\, faith\, fellowship and fun!
URL:https://firstpresrome.com/event/ecumenical-youth-group/
LOCATION:First Presbyterian Church of Rome\, Rome\, NY\, 13440\, United States
CATEGORIES:Event Calendar
ATTACH;FMTTYPE=image/jpeg:https://firstpresrome.com/wp-content/uploads/2026/04/Youth-Group-Pic.jpg
END:VEVENT
END:VCALENDAR